Workbook

Sheet 第一批公示
A1: 2026年春季校园拟录用人员公示（第一批）
A2: 序号 | B2: 应聘单位 | C2: 姓名 | D2: 性别 | E2: 学历 | F2: 毕业学校 | G2: 专业 | H2: 综合成绩
A3: 1 | B3: 银川市分公司 | C3: 胡佳鑫 | D3: 男 | E3: 本科 | F3: 山东财经大学 | G3: 资源与环境经济学 | H3: =VLOOKUP(C3,[1]总表!$D:$O,12,0) -> 82.981
A4: 2 | B4: 银川市分公司 | C4: 王思悦 | D4: 女 | E4: 本科 | F4: 吉林建筑大学 | G4: 财务管理 | H4: =VLOOKUP(C4,[1]总表!$D:$O,12,0) -> 81.199
A5: 3 | B5: 银川市分公司 | C5: 杨嘉瑜 | D5: 女 | E5: 本科 | F5: 沈阳农业大学 | G5: 农林经济管理 | H5: =VLOOKUP(C5,[1]总表!$D:$O,12,0) -> 79.881
A6: 4 | B6: 银川市分公司 | C6: 张静 | D6: 女 | E6: 本科 | F6: 上海海关学院 | G6: 国际商务 | H6: =VLOOKUP(C6,[1]总表!$D:$O,12,0) -> 78.82
A7: 5 | B7: 银川市分公司 | C7: 王霞 | D7: 女 | E7: 本科 | F7: 宁夏师范学院 | G7: 计算机科学与技术 | H7: =VLOOKUP(C7,[1]总表!$D:$O,12,0) -> 78.199
A8: 6 | B8: 银川市分公司 | C8: 周娜 | D8: 女 | E8: 本科 | F8: 湖南工业大学 | G8: 计算机科学与技术 | H8: =VLOOKUP(C8,[1]总表!$D:$O,12,0) -> 77.821
A9: 7 | B9: 银川市分公司 | C9: 李昭媛 | D9: 女 | E9: 本科 | F9: 银川科技学院 | G9: 会计学 | H9: =VLOOKUP(C9,[1]总表!$D:$O,12,0) -> 83.641
A10: 8 | B10: 银川市分公司 | C10: 季洁 | D10: 女 | E10: 本科 | F10: 中国民航大学 | G10: 统计学 | H10: =VLOOKUP(C10,[1]总表!$D:$O,12,0) -> 81.519
A11: 9 | B11: 银川市分公司 | C11: 郑博宇 | D11: 男 | E11: 本科 | F11: 上海第二工业大学 | G11: 网络工程 | H11: =VLOOKUP(C11,[1]总表!$D:$O,12,0) -> 79.959
A12: 10 | B12: 银川市分公司 | C12: 程转转 | D12: 女 | E12: 本科 | F12: 宁夏师范学院 | G12: 计算机科学与技术 | H12: =VLOOKUP(C12,[1]总表!$D:$O,12,0) -> 79.64
A13: 11 | B13: 银川市分公司 | C13: 李荣荣 | D13: 女 | E13: 本科 | F13: 宁夏大学新华学院 | G13: 财务管理 | H13: =VLOOKUP(C13,[1]总表!$D:$O,12,0) -> 78.279
A14: 12 | B14: 银川市分公司 | C14: 高丽蓉 | D14: 女 | E14: 本科 | F14: 吉林工商学院 | G14: 金融学 | H14: =VLOOKUP(C14,[1]总表!$D:$O,12,0) -> 77.02
... A94: 92 | B94: 中卫市分公司 | C94: 何鹏 | D94: 男 | E94: 本科 | F94: 宁夏大学 | G94: 软件工程 | H94: =VLOOKUP(C94,[1]总表!$D:$O,12,0) -> 77.68
